BEGIN:VCALENDAR
VERSION:2.0
PRODID:-//MyBurgas - ECPv6.15.20//NONSGML v1.0//EN
CALSCALE:GREGORIAN
METHOD:PUBLISH
X-WR-CALNAME:MyBurgas
X-ORIGINAL-URL:https://myburgas.com
X-WR-CALDESC:Събития за MyBurgas
REFRESH-INTERVAL;VALUE=DURATION:PT1H
X-Robots-Tag:noindex
X-PUBLISHED-TTL:PT1H
BEGIN:VTIMEZONE
TZID:Europe/Sofia
BEGIN:DAYLIGHT
TZOFFSETFROM:+0200
TZOFFSETTO:+0300
TZNAME:EEST
DTSTART:20240331T010000
END:DAYLIGHT
BEGIN:STANDARD
TZOFFSETFROM:+0300
TZOFFSETTO:+0200
TZNAME:EET
DTSTART:20241027T010000
END:STANDARD
BEGIN:DAYLIGHT
TZOFFSETFROM:+0200
TZOFFSETTO:+0300
TZNAME:EEST
DTSTART:20250330T010000
END:DAYLIGHT
BEGIN:STANDARD
TZOFFSETFROM:+0300
TZOFFSETTO:+0200
TZNAME:EET
DTSTART:20251026T010000
END:STANDARD
BEGIN:DAYLIGHT
TZOFFSETFROM:+0200
TZOFFSETTO:+0300
TZNAME:EEST
DTSTART:20260329T010000
END:DAYLIGHT
BEGIN:STANDARD
TZOFFSETFROM:+0300
TZOFFSETTO:+0200
TZNAME:EET
DTSTART:20261025T010000
END:STANDARD
END:VTIMEZONE
BEGIN:VEVENT
DTSTART;VALUE=DATE:20250703
DTEND;VALUE=DATE:20250707
DTSTAMP:20260420T002547
CREATED:20250701T211919Z
LAST-MODIFIED:20250701T211919Z
UID:1379-1751500800-1751846399@myburgas.com
SUMMARY:Световна Купа по Кудо 2025
DESCRIPTION:Събието ще се проведе в периода 3-6 юли. Организатор на събитието е Българска федерация по кудо с подкрепата на Община Бургас.
URL:https://myburgas.com/event/kudo-world-cup-7-25/
LOCATION:Арена Бургас\, бул. Стефан Стамболов\, 78\, Бургас\, Бургас\, Bulgaria
CATEGORIES:Спорт
ATTACH;FMTTYPE=image/jpeg:https://myburgas.com/wp-content/uploads/2025/07/kudo.jpg
ORGANIZER;CN="%D0%91%D1%83%D1%80%D0%B3%D0%B0%D1%81":MAILTO:info@gotoburgas.com
END:VEVENT
END:VCALENDAR